BEGIN:VCALENDAR
VERSION:2.0
PRODID:-//Helen Tanner - ECPv6.15.13//NONSGML v1.0//EN
CALSCALE:GREGORIAN
METHOD:PUBLISH
X-WR-CALNAME:Helen Tanner
X-ORIGINAL-URL:https://helentanner.com
X-WR-CALDESC:Events for Helen Tanner
REFRESH-INTERVAL;VALUE=DURATION:PT1H
X-Robots-Tag:noindex
X-PUBLISHED-TTL:PT1H
BEGIN:VTIMEZONE
TZID:Europe/London
BEGIN:DAYLIGHT
TZOFFSETFROM:+0000
TZOFFSETTO:+0100
TZNAME:BST
DTSTART:20200329T010000
END:DAYLIGHT
BEGIN:STANDARD
TZOFFSETFROM:+0100
TZOFFSETTO:+0000
TZNAME:GMT
DTSTART:20201025T010000
END:STANDARD
BEGIN:DAYLIGHT
TZOFFSETFROM:+0000
TZOFFSETTO:+0100
TZNAME:BST
DTSTART:20210328T010000
END:DAYLIGHT
BEGIN:STANDARD
TZOFFSETFROM:+0100
TZOFFSETTO:+0000
TZNAME:GMT
DTSTART:20211031T010000
END:STANDARD
BEGIN:DAYLIGHT
TZOFFSETFROM:+0000
TZOFFSETTO:+0100
TZNAME:BST
DTSTART:20220327T010000
END:DAYLIGHT
BEGIN:STANDARD
TZOFFSETFROM:+0100
TZOFFSETTO:+0000
TZNAME:GMT
DTSTART:20221030T010000
END:STANDARD
END:VTIMEZONE
BEGIN:VEVENT
DTSTART;TZID=Europe/London:20210602T190000
DTEND;TZID=Europe/London:20210602T200000
DTSTAMP:20260420T091336
CREATED:20210601T122248Z
LAST-MODIFIED:20210604T132424Z
UID:3817-1622660400-1622664000@helentanner.com
SUMMARY:Transforming Shame & Guilt Livestream
DESCRIPTION:“The difference between shame and guilt is the difference of ‘I am bad’ and ‘I did something bad” – Brené Brown. \nAs a Forgiveness Guide\, one of the most common experiences that people show up with is the feeling of being weighted down by shame and guilt. \nOften there is confusion as to which is which\, and how to move forwards. \nIn this Livestream\, on Wednesday 2nd of June at 7p.m (BST)\, we will be exploring what shame and guilt are\, what gives rise to them\, their similarities and differences\, their purpose and how they can be transformed and released through the Self-Compassion & Forgiveness process. \nThe talk is given by Helen Tanner Creative Psychotherapist- specialising in Forgiveness. @helentanner.com. \nThis and other free talks can be accessed by joining the FB group: Forgiveness for Women & Men of Heart. www.facebook.com/groups/ForgivenessHeart (please answer the membership questions for access). \nBlessings and Peace 🙏 \nHelen
URL:https://helentanner.com/event/transforming-shame-guilt-livestream/
LOCATION:Online
CATEGORIES:Livestreams
ATTACH;FMTTYPE=image/jpeg:https://helentanner.com/wp-content/uploads/2021/06/sad-woman.jpeg
ORGANIZER;CN="Helen Tanner LLB PgDip DTH MA":MAILTO:helen@helentanner.com
END:VEVENT
BEGIN:VEVENT
DTSTART;TZID=Europe/London:20210623T133000
DTEND;TZID=Europe/London:20210623T150000
DTSTAMP:20260420T091336
CREATED:20210617T062203Z
LAST-MODIFIED:20210914T162652Z
UID:4025-1624455000-1624460400@helentanner.com
SUMMARY:Beyond Rage Workshop
DESCRIPTION:“Rage sits at the crossroads of personal transformation. Those of us seeking spiritual enlightenment will inevitable stumble upon personal rage upon the path” – Ruth King \nRage has two very different faces: On the one hand we feel her power\, strength\, righteousness\, heat\, and fuel for fighting oppression\, but what of her violent\, destructive\, volatile\, vengeful nature? \nAs we individually and collectively seek to transform out-dated ways of living as a human family\, is there a need for rage? \nCan transformation be achieved through Love and peaceful means? \nCan we really create something new and harmonious with an energy that matches the very problem we are trying to transform? \nIn this workshop\, we will be exploring what rage is\, its purpose\, and how we can move ‘beyond rage’ through self-compassion and forgiveness\, and find a deeper\, more rooted strength and passion through an open heart\, and connection to our divine loving nature. \nThe workshop is offered by Helen Tanner Creative Psychotherapist specialising in Forgiveness. \nThis workshop is free\, and is offered as part of World Unity Week 2021. It will take place on Zoom. \nWe look forward to welcoming you at the workshop. \nBlessings and Peace\, Helen 
URL:https://helentanner.com/event/beyond-rage-workshop/
LOCATION:Online
CATEGORIES:Workshops
ATTACH;FMTTYPE=image/png:https://helentanner.com/wp-content/uploads/2021/06/beyond-rage-pink.png
ORGANIZER;CN="Helen Tanner LLB PgDip DTH MA":MAILTO:helen@helentanner.com
END:VEVENT
END:VCALENDAR